BEGIN:VCALENDAR
VERSION:2.0
PRODID:-//Indian Creek Campground - ECPv6.15.14//NONSGML v1.0//EN
CALSCALE:GREGORIAN
METHOD:PUBLISH
X-ORIGINAL-URL:https://www.indiancreekcampground.com
X-WR-CALDESC:Events for Indian Creek Campground
REFRESH-INTERVAL;VALUE=DURATION:PT1H
X-Robots-Tag:noindex
X-PUBLISHED-TTL:PT1H
BEGIN:VTIMEZONE
TZID:America/New_York
BEGIN:DAYLIGHT
TZOFFSETFROM:-0500
TZOFFSETTO:-0400
TZNAME:EDT
DTSTART:20150308T070000
END:DAYLIGHT
BEGIN:STANDARD
TZOFFSETFROM:-0400
TZOFFSETTO:-0500
TZNAME:EST
DTSTART:20151101T060000
END:STANDARD
BEGIN:DAYLIGHT
TZOFFSETFROM:-0500
TZOFFSETTO:-0400
TZNAME:EDT
DTSTART:20160313T070000
END:DAYLIGHT
BEGIN:STANDARD
TZOFFSETFROM:-0400
TZOFFSETTO:-0500
TZNAME:EST
DTSTART:20161106T060000
END:STANDARD
BEGIN:DAYLIGHT
TZOFFSETFROM:-0500
TZOFFSETTO:-0400
TZNAME:EDT
DTSTART:20170312T070000
END:DAYLIGHT
BEGIN:STANDARD
TZOFFSETFROM:-0400
TZOFFSETTO:-0500
TZNAME:EST
DTSTART:20171105T060000
END:STANDARD
END:VTIMEZONE
BEGIN:VEVENT
DTSTART;TZID=America/New_York:20160326T190000
DTEND;TZID=America/New_York:20160326T200000
DTSTAMP:20260421T150329
CREATED:20150430T161241Z
LAST-MODIFIED:20151222T193050Z
UID:525-1459018800-1459022400@www.indiancreekcampground.com
SUMMARY:Easter Egg Hunt
DESCRIPTION:
URL:https://www.indiancreekcampground.com/event/easter-egg-hunt-and-easter-craft-adults-kids/
END:VEVENT
BEGIN:VEVENT
DTSTART;TZID=America/New_York:20160326T110000
DTEND;TZID=America/New_York:20160326T140000
DTSTAMP:20260421T150329
CREATED:20150430T161241Z
LAST-MODIFIED:20151222T193155Z
UID:524-1458990000-1459000800@www.indiancreekcampground.com
SUMMARY:Hot Dogs & Chili ($)
DESCRIPTION:Our 11th annual opening day hot dogs & chili. We know you just want to fish\, so we will make lunch. ($)
URL:https://www.indiancreekcampground.com/event/hot-dogs-chili/
END:VEVENT
BEGIN:VEVENT
DTSTART;VALUE=DATE:20160325
DTEND;VALUE=DATE:20160328
DTSTAMP:20260421T150329
CREATED:20150430T161242Z
LAST-MODIFIED:20151222T192921Z
UID:542-1458864000-1459123199@www.indiancreekcampground.com
SUMMARY:Cherokee's Cast Into Spring Fishing Tournament (Cherokee)
DESCRIPTION:The tribe is going back to an OPENING WEEKEND for fishing.   All tribal waters will be closed for fishing for 2 weeks prior to opening weekend.   This used to be one of the biggest camping weekends of the year\, so book your sites/cabins early.
URL:https://www.indiancreekcampground.com/event/cherokees-cast-into-spring-fishing-tournament-cherokee/
END:VEVENT
BEGIN:VEVENT
DTSTART;VALUE=DATE:20160323
DTEND;VALUE=DATE:20160324
DTSTAMP:20260421T150329
CREATED:20150430T161243Z
LAST-MODIFIED:20151222T192324Z
UID:550-1458691200-1458777599@www.indiancreekcampground.com
SUMMARY:Campground Opens for 2016-Call to make reservations
DESCRIPTION:
URL:https://www.indiancreekcampground.com/event/campground-opens-for-2015-call-to-make-reservations/
END:VEVENT
END:VCALENDAR